BEGIN:VCALENDAR
VERSION:2.0
PRODID:-//ChamberMaster//Event Calendar 2.0//EN
METHOD:PUBLISH
X-PUBLISHED-TTL:P3D
REFRESH-INTERVAL:P3D
CALSCALE:GREGORIAN
BEGIN:VEVENT
DTSTART;VALUE=DATE:20250420
DTEND;VALUE=DATE:20250421
TRANSP:TRANSPARENT
X-MICROSOFT-CDO-ALLDAYEVENT:TRUE
SUMMARY:420 Friendly BONGs Ceramic Painting Night at Color Me Mine
DESCRIPTION:4/20   420 Friendly BONGs Ceramic Painting Night\n\n\nDate: Sunday\, April 20th \n\nTime: 6:30pm -8:30pm\n\nCelebrate the most iconic day of the year for 420 enthusiasts with a night of creativity and good vibes!\n\nOur BONGs Ceramic Painting Event is the perfect way to honor 4/20\n\nCombine your love for art and the culture in a unique\, hands-on experience.\n\n?? What's Included:\n\nA night of creativity and chill vibes.\n\nFully functional ceramic bong pieces to paint and customize.\n\nGlass bowl and silicone down-stem included with each beaker\n\nGlazing and kiln firing to make your masterpiece come to life!
X-ALT-DESC;FMTTYPE=text/html:<h2 style="text-align:center">4/20 &ndash\; 420 Friendly BONGs Ceramic Painting Night</h2>\n\n<div>\n<h3><strong>Date:</strong>&nbsp\;Sunday\, April 20th&nbsp\;<br />\n<strong>Time:</strong>&nbsp\;6:30pm -8:30pm</h3>\n\n<p>Celebrate the most iconic day of the year for 420 enthusiasts with a night of creativity and good vibes!</p>\n\n<p>Our&nbsp\;<strong>BONGs Ceramic Painting Event</strong>&nbsp\;is the&nbsp\;<em>perfect</em>&nbsp\;way to honor 4/20</p>\n\n<p>Combine your love for art and the culture in a unique\, hands-on experience.</p>\n\n<p>??&nbsp\;<strong>What&rsquo\;s Included:</strong></p>\n\n<p>A night of creativity and chill vibes.</p>\n\n<p>Fully functional ceramic bong pieces to paint and customize.</p>\n\n<p>Glass bowl and silicone down-stem included with each beaker</p>\n\n<p>Glazing and kiln firing to make your masterpiece come to life!</p>\n</div>\n
LOCATION:Color Me Mine North Center 3849 N Lincoln Ave. Chicago\, IL 60613 312-975-655
UID:e.2566.13851
SEQUENCE:3
DTSTAMP:20260421T044959Z
URL:https://business.ravenswoodchicago.org/events/details/420-friendly-bongs-ceramic-painting-night-at-color-me-mine-13851
END:VEVENT

END:VCALENDAR
