BEGIN:VCALENDAR
VERSION:2.0
PRODID:-//ChamberMaster//Event Calendar 2.0//EN
METHOD:PUBLISH
X-PUBLISHED-TTL:P3D
REFRESH-INTERVAL:P3D
CALSCALE:GREGORIAN
BEGIN:VEVENT
DTSTART:20230325T150000Z
DTEND:20230325T170000Z
X-MICROSOFT-CDO-ALLDAYEVENT:FALSE
SUMMARY:2023 IB Open House - The French International School
DESCRIPTION:Come to our upcoming High School IB Open House on Saturday\, March 25\, from 10:00 am until 12:00 pm. You will have an opportunity to tour our beautiful school and meet with teachers. Pre-register please. \n\n\n\nDiscover what makes our IB Program unique and truly international:\n\n\n\n- lB track taught in English   no previous French experience required- \n\n- Multicultural & inclusive community\n\n- Admission to top US and world universities\n\n- Third language options: German\, Mandarin\, Spanish\n\n- Study abroad and class trips\n\n- Athletics (Go Flames!)\n\n- Small size classes\n\n- After-school classes & fall / winter / spring / summer camps\n\n- Parent Association & community involvement\n\n- College counseling\n\n- Financial aid opportunities
X-ALT-DESC;FMTTYPE=text/html:<p>Come to our upcoming High School IB Open House on Saturday\, March 25\, from 10:00 am until 12:00 pm. You will have an opportunity to tour our beautiful school and meet with teachers. Pre-register please.&nbsp\;<br />\n<br />\nDiscover what makes our IB Program unique and truly international:<br />\n<br />\n- lB track taught in English &ndash\; no previous French experience required-&nbsp\;<br />\n- Multicultural &amp\; inclusive community<br />\n- Admission to top US and world universities<br />\n- Third language options: German\, Mandarin\, Spanish<br />\n- Study abroad and class trips<br />\n- Athletics (Go Flames!)<br />\n- Small size classes<br />\n- After-school classes &amp\; fall / winter / spring / summer camps<br />\n- Parent Association &amp\; community involvement<br />\n- College counseling<br />\n- Financial aid opportunities&nbsp\;</p>\n
LOCATION:Lyc e Fran ais de Chicago
UID:e.2566.5113
SEQUENCE:3
DTSTAMP:20260420T095001Z
URL:https://business.ravenswoodchicago.org/events/details/2023-high-school-ib-open-house-the-french-international-school-5113
END:VEVENT

END:VCALENDAR
